BEGIN:VCALENDAR
VERSION:2.0
PRODID:-//Alabama Fire College - ECPv6.15.18//NONSGML v1.0//EN
CALSCALE:GREGORIAN
METHOD:PUBLISH
X-WR-CALNAME:Alabama Fire College
X-ORIGINAL-URL:https://www.alabamafirecollege.org
X-WR-CALDESC:Events for Alabama Fire College
REFRESH-INTERVAL;VALUE=DURATION:PT1H
X-Robots-Tag:noindex
X-PUBLISHED-TTL:PT1H
BEGIN:VTIMEZONE
TZID:America/Chicago
BEGIN:DAYLIGHT
TZOFFSETFROM:-0600
TZOFFSETTO:-0500
TZNAME:CDT
DTSTART:20250309T080000
END:DAYLIGHT
BEGIN:STANDARD
TZOFFSETFROM:-0500
TZOFFSETTO:-0600
TZNAME:CST
DTSTART:20251102T070000
END:STANDARD
BEGIN:DAYLIGHT
TZOFFSETFROM:-0600
TZOFFSETTO:-0500
TZNAME:CDT
DTSTART:20260308T080000
END:DAYLIGHT
BEGIN:STANDARD
TZOFFSETFROM:-0500
TZOFFSETTO:-0600
TZNAME:CST
DTSTART:20261101T070000
END:STANDARD
BEGIN:DAYLIGHT
TZOFFSETFROM:-0600
TZOFFSETTO:-0500
TZNAME:CDT
DTSTART:20270314T080000
END:DAYLIGHT
BEGIN:STANDARD
TZOFFSETFROM:-0500
TZOFFSETTO:-0600
TZNAME:CST
DTSTART:20271107T070000
END:STANDARD
END:VTIMEZONE
BEGIN:VEVENT
DTSTART;TZID=America/Chicago:20260121T090000
DTEND;TZID=America/Chicago:20260121T120000
DTSTAMP:20260420T064919
CREATED:20251104T203255Z
LAST-MODIFIED:20251104T203255Z
UID:10002346-1768986000-1768996800@www.alabamafirecollege.org
SUMMARY:Personnel Standards & Education Commission Quarterly Meeting
DESCRIPTION:Open to public attendance. \nLearn more.
URL:https://www.alabamafirecollege.org/event/personnel-standards-education-commission-quarterly-meeting-2/2026-01-21/
LOCATION:Alabama Fire College & Personnel Standards & Education Commission
CATEGORIES:events
END:VEVENT
BEGIN:VEVENT
DTSTART;TZID=America/Chicago:20260121T090000
DTEND;TZID=America/Chicago:20260121T143000
DTSTAMP:20260420T064919
CREATED:20251218T192111Z
LAST-MODIFIED:20251218T200627Z
UID:10002359-1768986000-1769005800@www.alabamafirecollege.org
SUMMARY:Alabama EMS Challenge (Springville)
DESCRIPTION:Free\, Physician-Led Continuing Education for EMS Providers & Nurses \n\nLecture: 9am – If you can’t attend in person\, you can join the lecture on Microsoft Teams for the same credit.\nLunch provided! 11am\nLab (12pm): Skills lab
URL:https://www.alabamafirecollege.org/event/alabama-ems-challenge-springville/
LOCATION:Springville Fire & Rescue
CATEGORIES:events
END:VEVENT
END:VCALENDAR